{ "currentVersion": 11.2, "serviceDescription": "

Imagery from 2019 of project area; downloaded from PA Imagery Navigator and product of USDA NAIP. Will be used to add more detailed imagery to Collector map for NE SARE project in PA.<\/SPAN><\/P><\/DIV><\/DIV><\/DIV>", "name": "PA_Office/CSC_m_4007638_se_18_060_20191019_20191204", "description": "

Imagery from 2019 of project area; downloaded from PA Imagery Navigator and product of USDA NAIP. Will be used to add more detailed imagery to Collector map for NE SARE project in PA.<\/SPAN><\/P><\/DIV><\/DIV><\/DIV>", "extent": { "xmin": 388321.8, "ymin": 4469829.6, "xmax": 394284, "ymax": 4477498.8, "spatialReference": { "wkid": 26918, "latestWkid": 26918 } }, "initialExtent": { "xmin": 388321.8, "ymin": 4469829.6, "xmax": 394284, "ymax": 4477498.8, "spatialReference": { "wkid": 26918, "latestWkid": 26918 } }, "fullExtent": { "xmin": 388321.8, "ymin": 4469829.6, "xmax": 394284, "ymax": 4477498.8, "spatialReference": { "wkid": 26918, "latestWkid": 26918 } }, "sortableFields": "", "bandCount": 4, "pixelType": "U8", "minValues": [ 22, 31, 32, 1 ], "maxValues": [ 255, 255, 249, 255 ], "meanValues": [ 138.12187823026, 139.54579897006, 115.42903209953, 130.25876676634 ], "stdvValues": [ 45.159565305219, 37.052855397732, 36.991937861883, 44.248876946697 ], "hasMultidimensions": false, "pixelSizeX": 0.6000000000000012, "pixelSizeY": 0.6000000000000145, "meanPixelSize": 0.6000000000000079, "datasetFormat": "TIFF", "uncompressedSize": 508058936, "blockWidth": 9937, "blockHeight": 1, "compressionType": "None", "bandNames": [ "Band_1", "Band_2", "Band_3", "Band_4" ], "allowCopy": true, "allowAnalysis": true, "itemAccess": false, "inspectionCapabilities": "", "minPixelSize": 0, "maxPixelSize": 0, "copyrightText": "Original data product of USDA NAIP accessed July 2021; published by M. Finch (CBF, 2021).", "serviceDataType": "esriImageServiceDataTypeGeneric", "serviceSourceType": "esriImageServiceSourceTypeDataset", "objectIdField": "", "fields": [], "capabilities": "Image,Metadata,Mensuration", "defaultMosaicMethod": "Center", "allowedMosaicMethods": "", "sortField": "", "sortValue": null, "sortAscending": true, "mosaicOperator": "First", "defaultCompressionQuality": 75, "defaultResamplingMethod": "Bilinear", "maxImageHeight": 4100, "maxImageWidth": 15000, "allowRasterFunction": true, "rasterFunctionInfos": [ { "name": "None", "description": "", "help": "" } ], "rasterTypeInfos": [ { "name": "Raster Dataset", "description": "Supports all ArcGIS Raster Datasets", "help": "" } ], "mensurationCapabilities": "Basic", "hasHistograms": true, "hasColormap": false, "hasRasterAttributeTable": false, "minScale": 0, "maxScale": 0, "exportTilesAllowed": false, "supportsStatistics": false, "supportsAdvancedQueries": false, "editFieldsInfo": null, "ownershipBasedAccessControlForRasters": null, "allowComputeTiePoints": false, "useStandardizedQueries": true, "advancedQueryCapabilities": { "useStandardizedQueries": true, "supportsStatistics": false, "supportsOrderBy": false, "supportsDistinct": false, "supportsPagination": false }, "spatialReference": { "wkid": 26918, "latestWkid": 26918 } }