{ "currentVersion": 11.2, "serviceDescription": "

Imagery from 2019 of project area; downloaded from PA Imagery Navigator and product of USDA NAIP. Will be used to add more detailed imagery to Collector map for NE SARE project in PA.<\/SPAN><\/P><\/DIV><\/DIV><\/DIV>", "name": "PA_Office/FCF_m_3907607_se_18_060_20191011_20191203", "description": "

Imagery from 2019 of project area; downloaded from PA Imagery Navigator and product of USDA NAIP. Will be used to add more detailed imagery to Collector map for NE SARE project in PA.<\/SPAN><\/P><\/DIV><\/DIV><\/DIV>", "extent": { "xmin": 398192.4, "ymin": 4414188.6, "xmax": 404182.80000000005, "ymax": 4421850, "spatialReference": { "wkid": 26918, "latestWkid": 26918 } }, "initialExtent": { "xmin": 398192.4, "ymin": 4414188.6, "xmax": 404182.80000000005, "ymax": 4421850, "spatialReference": { "wkid": 26918, "latestWkid": 26918 } }, "fullExtent": { "xmin": 398192.4, "ymin": 4414188.6, "xmax": 404182.80000000005, "ymax": 4421850, "spatialReference": { "wkid": 26918, "latestWkid": 26918 } }, "sortableFields": "", "bandCount": 4, "pixelType": "U8", "minValues": [ 26, 31, 35, 4 ], "maxValues": [ 255, 255, 255, 255 ], "meanValues": [ 119.18109827786, 121.53585310464, 97.78957405543, 130.62215524167 ], "stdvValues": [ 47.177023586466, 40.130340789916, 33.353269910996, 49.476484010775 ], "hasMultidimensions": false, "pixelSizeX": 0.6000000000000023, "pixelSizeY": 0.6000000000000292, "meanPixelSize": 0.6000000000000157, "datasetFormat": "TIFF", "uncompressedSize": 509942784, "blockWidth": 9984, "blockHeight": 1, "compressionType": "None", "bandNames": [ "Band_1", "Band_2", "Band_3", "Band_4" ], "allowCopy": true, "allowAnalysis": true, "itemAccess": false, "inspectionCapabilities": "", "minPixelSize": 0, "maxPixelSize": 0, "copyrightText": "Original data product of USDA NAIP accessed July 2021; published by M. Finch (CBF, 2021).", "serviceDataType": "esriImageServiceDataTypeGeneric", "serviceSourceType": "esriImageServiceSourceTypeDataset", "objectIdField": "", "fields": [], "capabilities": "Image,Metadata,Mensuration", "defaultMosaicMethod": "Center", "allowedMosaicMethods": "", "sortField": "", "sortValue": null, "sortAscending": true, "mosaicOperator": "First", "defaultCompressionQuality": 75, "defaultResamplingMethod": "Bilinear", "maxImageHeight": 4100, "maxImageWidth": 15000, "allowRasterFunction": true, "rasterFunctionInfos": [ { "name": "None", "description": "", "help": "" } ], "rasterTypeInfos": [ { "name": "Raster Dataset", "description": "Supports all ArcGIS Raster Datasets", "help": "" } ], "mensurationCapabilities": "Basic", "hasHistograms": true, "hasColormap": false, "hasRasterAttributeTable": false, "minScale": 0, "maxScale": 0, "exportTilesAllowed": false, "supportsStatistics": false, "supportsAdvancedQueries": false, "editFieldsInfo": null, "ownershipBasedAccessControlForRasters": null, "allowComputeTiePoints": false, "useStandardizedQueries": true, "advancedQueryCapabilities": { "useStandardizedQueries": true, "supportsStatistics": false, "supportsOrderBy": false, "supportsDistinct": false, "supportsPagination": false }, "spatialReference": { "wkid": 26918, "latestWkid": 26918 } }