Imagery from 2019 of project area; downloaded from PA Imagery Navigator and product of USDA NAIP. Will be used to add more detailed imagery to Collector map for NE SARE project in PA.<\/span><\/p><\/div><\/div><\/div>",
"name": "PA_Office/LF_m_4007662_se_18_060_20191011_20191203",
"description": "Imagery from 2019 of project area; downloaded from PA Imagery Navigator and product of USDA NAIP. Will be used to add more detailed imagery to Collector map for NE SARE project in PA.<\/span><\/p><\/div><\/div><\/div>",
"extent": {
"xmin": 387706.8,
"ymin": 4428205.2,
"xmax": 393697.2,
"ymax": 4435873.8,
"spatialReference": {
"wkid": 26918,
"latestWkid": 26918
}
},
"initialExtent": {
"xmin": 387706.8,
"ymin": 4428205.2,
"xmax": 393697.2,
"ymax": 4435873.8,
"spatialReference": {
"wkid": 26918,
"latestWkid": 26918
}
},
"fullExtent": {
"xmin": 387706.8,
"ymin": 4428205.2,
"xmax": 393697.2,
"ymax": 4435873.8,
"spatialReference": {
"wkid": 26918,
"latestWkid": 26918
}
},
"sortableFields": "",
"bandCount": 4,
"pixelType": "U8",
"minValues": [
17,
29,
32,
1
],
"maxValues": [
255,
254,
251,
255
],
"meanValues": [
116.23770701931,
123.22863283389,
107.95405800056,
108.63354057204
],
"stdvValues": [
48.874313943532,
44.032473195207,
43.466978063257,
56.317832811838
],
"serviceProperties": "Center<\/MosaicMethod>First<\/MosaicOperator>true<\/SortAscending><\/LockImageID><\/TileOrderField>0<\/TileOrderBase>0.000000<\/AvgImageSpacingX>0.000000<\/AvgImageSpacingY>0.0<\/ViewPointX>0.0<\/ViewPointY>0.0<\/ViewPointDefShiftX>0.0<\/ViewPointDefShiftY>None<\/CompressionMethod>75<\/CompressionQuality>0.010000<\/CompressionTolerance>Bilinear<\/SamplingMethod><\/ImageServiceProperties><\/ImageServer>",
"allowedFields": "",
"hasMultidimensions": false,
"pixelSizeX": 0.6000000000000023,
"pixelSizeY": 0.5999999999999709,
"meanPixelSize": 0.5999999999999865,
"datasetFormat": "TIFF",
"uncompressedSize": 510422016,
"blockWidth": 9984,
"blockHeight": 1,
"compressionType": "None",
"bandNames": [
"Band_1",
"Band_2",
"Band_3",
"Band_4"
],
"allowCopy": true,
"allowAnalysis": true,
"itemAccess": false,
"inspectionCapabilities": "",
"minPixelSize": 0,
"maxPixelSize": 0,
"copyrightText": "Original data product of USDA NAIP accessed July 2021; published by M. Finch (CBF, 2021).",
"serviceDataType": "esriImageServiceDataTypeGeneric",
"serviceSourceType": "esriImageServiceSourceTypeDataset",
"objectIdField": "",
"fields": [],
"capabilities": "Mensuration,Image,Metadata",
"defaultMosaicMethod": "Center",
"allowedMosaicMethods": "",
"sortField": "",
"sortValue": null,
"sortAscending": true,
"mosaicOperator": "First",
"defaultCompressionQuality": 75,
"defaultResamplingMethod": "Bilinear",
"maxImageHeight": 4100,
"maxImageWidth": 15000,
"allowRasterFunction": true,
"rasterFunctionInfos": [
{
"name": "None",
"description": "",
"help": ""
}
],
"rasterTypeInfos": [
{
"name": "Raster Dataset",
"description": "Supports all ArcGIS Raster Datasets",
"help": ""
}
],
"mensurationCapabilities": "Basic",
"hasHistograms": true,
"hasColormap": false,
"hasRasterAttributeTable": false,
"minScale": 0,
"maxScale": 0,
"exportTilesAllowed": false,
"supportsStatistics": false,
"supportsAdvancedQueries": false,
"editFieldsInfo": null,
"ownershipBasedAccessControlForRasters": null,
"allowComputeTiePoints": false,
"useStandardizedQueries": true,
"advancedQueryCapabilities": {
"useStandardizedQueries": true,
"supportsStatistics": false,
"supportsOrderBy": false,
"supportsDistinct": false,
"supportsPagination": false
},
"spatialReference": {
"wkid": 26918,
"latestWkid": 26918
}
}