Imagery from 2019 of project area; downloaded from PA Imagery Navigator and product of USDA NAIP. Will be used to add more detailed imagery to Collector map for NE SARE project in PA.<\/SPAN><\/P><\/DIV><\/DIV><\/DIV>",
"name": "PA_Office/RLF_m_4007653_nw_18_060_20191011_20191203",
"description": "Imagery from 2019 of project area; downloaded from PA Imagery Navigator and product of USDA NAIP. Will be used to add more detailed imagery to Collector map for NE SARE project in PA.<\/SPAN><\/P><\/DIV><\/DIV><\/DIV>",
"extent": {
"xmin": 372010.2,
"ymin": 4449313.2,
"xmax": 378084.60000000003,
"ymax": 4456884,
"spatialReference": {
"wkid": 26918,
"latestWkid": 26918
}
},
"initialExtent": {
"xmin": 372010.2,
"ymin": 4449313.2,
"xmax": 378084.60000000003,
"ymax": 4456884,
"spatialReference": {
"wkid": 26918,
"latestWkid": 26918
}
},
"fullExtent": {
"xmin": 372010.2,
"ymin": 4449313.2,
"xmax": 378084.60000000003,
"ymax": 4456884,
"spatialReference": {
"wkid": 26918,
"latestWkid": 26918
}
},
"sortableFields": "",
"bandCount": 4,
"pixelType": "U8",
"minValues": [
19,
26,
25,
1
],
"maxValues": [
255,
255,
255,
255
],
"meanValues": [
105.49931594775,
111.46233515319,
88.045732442202,
124.22271798474
],
"stdvValues": [
45.851230184214,
39.559485200832,
36.061930849808,
47.038490838062
],
"serviceProperties": "Center<\/MosaicMethod>First<\/MosaicOperator>true<\/SortAscending><\/LockImageID><\/TileOrderField>0<\/TileOrderBase>0.000000<\/AvgImageSpacingX>0.000000<\/AvgImageSpacingY>0.0<\/ViewPointX>0.0<\/ViewPointY>0.0<\/ViewPointDefShiftX>0.0<\/ViewPointDefShiftY>None<\/CompressionMethod>75<\/CompressionQuality>0.010000<\/CompressionTolerance>Bilinear<\/SamplingMethod><\/ImageServiceProperties><\/ImageServer>",
"allowedFields": "",
"hasMultidimensions": false,
"pixelSizeX": 0.6000000000000023,
"pixelSizeY": 0.5999999999999852,
"meanPixelSize": 0.5999999999999938,
"datasetFormat": "TIFF",
"uncompressedSize": 510978528,
"blockWidth": 10124,
"blockHeight": 1,
"compressionType": "None",
"bandNames": [
"Band_1",
"Band_2",
"Band_3",
"Band_4"
],
"allowCopy": true,
"allowAnalysis": true,
"itemAccess": false,
"inspectionCapabilities": "",
"minPixelSize": 0,
"maxPixelSize": 0,
"copyrightText": "Original data product of USDA NAIP accessed July 2021; published by M. Finch (CBF, 2021).",
"serviceDataType": "esriImageServiceDataTypeGeneric",
"serviceSourceType": "esriImageServiceSourceTypeDataset",
"objectIdField": "",
"fields": [],
"capabilities": "Image,Metadata,Mensuration",
"defaultMosaicMethod": "Center",
"allowedMosaicMethods": "",
"sortField": "",
"sortValue": null,
"sortAscending": true,
"mosaicOperator": "First",
"defaultCompressionQuality": 75,
"defaultResamplingMethod": "Bilinear",
"maxImageHeight": 4100,
"maxImageWidth": 15000,
"allowRasterFunction": true,
"rasterFunctionInfos": [
{
"name": "None",
"description": "",
"help": ""
}
],
"rasterTypeInfos": [
{
"name": "Raster Dataset",
"description": "Supports all ArcGIS Raster Datasets",
"help": ""
}
],
"mensurationCapabilities": "Basic",
"hasHistograms": true,
"hasColormap": false,
"hasRasterAttributeTable": false,
"minScale": 0,
"maxScale": 0,
"exportTilesAllowed": false,
"supportsStatistics": false,
"supportsAdvancedQueries": false,
"editFieldsInfo": null,
"ownershipBasedAccessControlForRasters": null,
"allowComputeTiePoints": false,
"useStandardizedQueries": true,
"advancedQueryCapabilities": {
"useStandardizedQueries": true,
"supportsStatistics": false,
"supportsOrderBy": false,
"supportsDistinct": false,
"supportsPagination": false
},
"spatialReference": {
"wkid": 26918,
"latestWkid": 26918
}
}