{
 "currentVersion": 11.5,
 "serviceDescription": "Model run 1 for the VA Tiered Buffer project. This model gives equal weight to distance to high ag flow and the distance to streams (40% of the total) and less weight to the soil erodability (20%). ",
 "name": "VA_TieredBuffers/ModelOutputRun1_40_40_20",
 "description": "Model run 1 for the VA Tiered Buffer project. This model gives equal weight to distance to high ag flow and the distance to streams (40% of the total) and less weight to the soil erodability (20%). ",
 "extent": {
  "xmin": -16632.101020985836,
  "ymin": 170132.90065079724,
  "xmax": 31374.898979014164,
  "ymax": 231520.90065079724,
  "spatialReference": {
   "wkid": 6591,
   "latestWkid": 6591
  }
 },
 "initialExtent": {
  "xmin": -16632.101020985836,
  "ymin": 170132.90065079724,
  "xmax": 31374.898979014164,
  "ymax": 231520.90065079724,
  "spatialReference": {
   "wkid": 6591,
   "latestWkid": 6591
  }
 },
 "fullExtent": {
  "xmin": -16632.101020985836,
  "ymin": 170132.90065079724,
  "xmax": 31374.898979014164,
  "ymax": 231520.90065079724,
  "spatialReference": {
   "wkid": 6591,
   "latestWkid": 6591
  }
 },
 "sortableFields": "",
 "bandCount": 1,
 "pixelType": "F32",
 "minValues": [
  0.2894744873046875
 ],
 "maxValues": [
  10
 ],
 "meanValues": [
  4.193586970297906
 ],
 "stdvValues": [
  2.212174544209921
 ],
 "serviceProperties": "Center<\/MosaicMethod>First<\/MosaicOperator>true<\/SortAscending><\/LockImageID><\/TileOrderField>0<\/TileOrderBase>0.000000<\/AvgImageSpacingX>0.000000<\/AvgImageSpacingY>0.0<\/ViewPointX>0.0<\/ViewPointY>0.0<\/ViewPointDefShiftX>0.0<\/ViewPointDefShiftY>None<\/CompressionMethod>75<\/CompressionQuality>0.010000<\/CompressionTolerance>Bilinear<\/SamplingMethod><\/ImageServiceProperties><\/ImageServer>",
 "allowedFields": "",
 "hasMultidimensions": false,
 "pixelSizeX": 1,
 "pixelSizeY": 1,
 "meanPixelSize": 1,
 "datasetFormat": "FGDBR",
 "uncompressedSize": 11788214864,
 "blockWidth": 128,
 "blockHeight": 128,
 "compressionType": "NONE",
 "bandNames": [
  "Band_1"
 ],
 "allowCopy": true,
 "allowAnalysis": true,
 "itemAccess": false,
 "inspectionCapabilities": "",
 "minPixelSize": 0,
 "maxPixelSize": 0,
 "copyrightText": "Chesapeake Bay Foundation (2021)",
 "serviceDataType": "esriImageServiceDataTypeGeneric",
 "serviceSourceType": "esriImageServiceSourceTypeDataset",
 "objectIdField": "",
 "fields": [],
 "capabilities": "Mensuration,Image,Metadata",
 "defaultMosaicMethod": "Center",
 "allowedMosaicMethods": "",
 "sortField": "",
 "sortValue": null,
 "sortAscending": true,
 "mosaicOperator": "First",
 "defaultCompressionQuality": 75,
 "defaultResamplingMethod": "Bilinear",
 "maxImageHeight": 4100,
 "maxImageWidth": 15000,
 "allowRasterFunction": true,
 "rasterFunctionInfos": [
  {
   "name": "None",
   "description": "",
   "help": ""
  }
 ],
 "rasterTypeInfos": [
  {
   "name": "Raster Dataset",
   "description": "Supports all ArcGIS Raster Datasets",
   "help": ""
  }
 ],
 "mensurationCapabilities": "Basic",
 "hasHistograms": true,
 "hasColormap": false,
 "hasRasterAttributeTable": false,
 "minScale": 0,
 "maxScale": 0,
 "exportTilesAllowed": false,
 "supportsStatistics": false,
 "supportsAdvancedQueries": false,
 "editFieldsInfo": null,
 "ownershipBasedAccessControlForRasters": null,
 "allowComputeTiePoints": false,
 "useStandardizedQueries": true,
 "advancedQueryCapabilities": {
  "useStandardizedQueries": true,
  "supportsStatistics": false,
  "supportsOrderBy": false,
  "supportsDistinct": false,
  "supportsPagination": false
 },
 "spatialReference": {
  "wkid": 6591,
  "latestWkid": 6591
 }
}
