{
 "currentVersion": 11.5,
 "serviceDescription": "Model output for the Virginia Tiered Buffer prioritization raster in which all variables were given equal weights (soil erodibility, slope, distance from streams, and high flow from agriculture). ",
 "name": "VA_TieredBuffers/ModelRun1_EqualInputs_ROA",
 "description": "Model output for the Virginia Tiered Buffer prioritization raster in which all variables were given equal weights (soil erodibility, slope, distance from streams, and high flow from agriculture). ",
 "extent": {
  "xmin": -16632.101020985836,
  "ymin": 170132.90065079724,
  "xmax": 31374.898979014164,
  "ymax": 231520.90065079724,
  "spatialReference": {
   "wkid": 6591,
   "latestWkid": 6591
  }
 },
 "initialExtent": {
  "xmin": -16632.101020985836,
  "ymin": 170132.90065079724,
  "xmax": 31374.898979014164,
  "ymax": 231520.90065079724,
  "spatialReference": {
   "wkid": 6591,
   "latestWkid": 6591
  }
 },
 "fullExtent": {
  "xmin": -16632.101020985836,
  "ymin": 170132.90065079724,
  "xmax": 31374.898979014164,
  "ymax": 231520.90065079724,
  "spatialReference": {
   "wkid": 6591,
   "latestWkid": 6591
  }
 },
 "sortableFields": "",
 "bandCount": 1,
 "pixelType": "F32",
 "minValues": [
  0.19511394202709
 ],
 "maxValues": [
  9.8083333969116
 ],
 "meanValues": [
  4.2327770744419
 ],
 "stdvValues": [
  1.4213415689113
 ],
 "serviceProperties": "Center<\/MosaicMethod>First<\/MosaicOperator>true<\/SortAscending><\/LockImageID><\/TileOrderField>0<\/TileOrderBase>0.000000<\/AvgImageSpacingX>0.000000<\/AvgImageSpacingY>0.0<\/ViewPointX>0.0<\/ViewPointY>0.0<\/ViewPointDefShiftX>0.0<\/ViewPointDefShiftY>None<\/CompressionMethod>75<\/CompressionQuality>0.010000<\/CompressionTolerance>Bilinear<\/SamplingMethod><\/ImageServiceProperties><\/ImageServer>",
 "allowedFields": "",
 "hasMultidimensions": false,
 "pixelSizeX": 1,
 "pixelSizeY": 1,
 "meanPixelSize": 1,
 "datasetFormat": "TIFF",
 "uncompressedSize": 11788214864,
 "blockWidth": 128,
 "blockHeight": 128,
 "compressionType": "None",
 "bandNames": [
  "Band_1"
 ],
 "allowCopy": true,
 "allowAnalysis": true,
 "itemAccess": false,
 "inspectionCapabilities": "",
 "noDataValue": -3.4028234663852886E38,
 "noDataValues": [
  -3.4028234663852886E38
 ],
 "minPixelSize": 0,
 "maxPixelSize": 0,
 "copyrightText": "Chesapeake Bay Foundation (2021)",
 "serviceDataType": "esriImageServiceDataTypeGeneric",
 "serviceSourceType": "esriImageServiceSourceTypeDataset",
 "objectIdField": "",
 "fields": [],
 "capabilities": "Mensuration,Image,Metadata",
 "defaultMosaicMethod": "Center",
 "allowedMosaicMethods": "",
 "sortField": "",
 "sortValue": null,
 "sortAscending": true,
 "mosaicOperator": "First",
 "defaultCompressionQuality": 75,
 "defaultResamplingMethod": "Bilinear",
 "maxImageHeight": 4100,
 "maxImageWidth": 15000,
 "allowRasterFunction": true,
 "rasterFunctionInfos": [
  {
   "name": "None",
   "description": "",
   "help": ""
  }
 ],
 "rasterTypeInfos": [
  {
   "name": "Raster Dataset",
   "description": "Supports all ArcGIS Raster Datasets",
   "help": ""
  }
 ],
 "mensurationCapabilities": "Basic",
 "hasHistograms": true,
 "hasColormap": false,
 "hasRasterAttributeTable": false,
 "minScale": 0,
 "maxScale": 0,
 "exportTilesAllowed": false,
 "supportsStatistics": false,
 "supportsAdvancedQueries": false,
 "editFieldsInfo": null,
 "ownershipBasedAccessControlForRasters": null,
 "allowComputeTiePoints": false,
 "useStandardizedQueries": true,
 "advancedQueryCapabilities": {
  "useStandardizedQueries": true,
  "supportsStatistics": false,
  "supportsOrderBy": false,
  "supportsDistinct": false,
  "supportsPagination": false
 },
 "spatialReference": {
  "wkid": 6591,
  "latestWkid": 6591
 }
}
