View In:
ArcGIS JavaScript
ArcGIS Online Map Viewer
ArcGIS Earth
ArcMap
View Footprint In:
ArcGIS Online Map Viewer
Service Description: This raster was created by combining the following project criteria rasters at specific overall calculation weights: Baseline - Equal Focus (.5), Community - Equal focus (.3), Geography - Event contact focus (.2). The output is a weighted overlay raster with values between 0-1, with 1 representing the best suitability, highlighting areas where there is baseline and community critieria with a focus toward advocate contacts.Baseline - Equal Focus means that Key Districts and IPSOS Segment areas are considered equally important. Community - Equal focus means that Population Growth, Voter Turn-out, and Diversity Index are considered equally important. Geography - Event focus means that location of Event contact is considered at a greater weight (.8) to CBF Gap in Presence (.2).This raster will be used to determine location of possible interest for grassroots organizing the the watershed.Published as part of the Grassroots Organizer spatial analysis project.
Name: Voices_Campaign/WO_1_1_4e
Description: This raster was created by combining the following project criteria rasters at specific overall calculation weights: Baseline - Equal Focus (.5), Community - Equal focus (.3), Geography - Event contact focus (.2). The output is a weighted overlay raster with values between 0-1, with 1 representing the best suitability, highlighting areas where there is baseline and community critieria with a focus toward advocate contacts.Baseline - Equal Focus means that Key Districts and IPSOS Segment areas are considered equally important. Community - Equal focus means that Population Growth, Voter Turn-out, and Diversity Index are considered equally important. Geography - Event focus means that location of Event contact is considered at a greater weight (.8) to CBF Gap in Presence (.2).This raster will be used to determine location of possible interest for grassroots organizing the the watershed.Published as part of the Grassroots Organizer spatial analysis project.
Single Fused Map Cache: false
Extent:
XMin: -276778.6673999997
YMin: 4045386.8006999996
XMax: 764131.3326000003
YMax: 4985486.8007
Spatial Reference: 26918
(26918)
Initial Extent:
XMin: -276778.6673999997
YMin: 4045386.8006999996
XMax: 764131.3326000003
YMax: 4985486.8007
Spatial Reference: 26918
(26918)
Full Extent:
XMin: -276778.6673999997
YMin: 4045386.8006999996
XMax: 764131.3326000003
YMax: 4985486.8007
Spatial Reference: 26918
(26918)
Pixel Size X: 10.0
Pixel Size Y: 10.0
Band Count: 1
Pixel Type: F32
RasterFunction Infos: {"rasterFunctionInfos": [{
"name": "None",
"description": "",
"help": ""
}]}
Mensuration Capabilities: Basic
Has Histograms: true
Has Colormap: false
Has Multi Dimensions : false
Rendering Rule:
Min Scale: 0
Max Scale: 0
Copyright Text: Created by M. Finch (CBF | 2020).
Service Data Type: esriImageServiceDataTypeGeneric
Min Values: 0.10506311804056168
Max Values: 0.7355009317398071
Mean Values: 0.3963085756438854
Standard Deviation Values: 0.12007320423288255
Object ID Field:
Fields:
None
Default Mosaic Method: Center
Allowed Mosaic Methods:
SortField:
SortValue: null
Mosaic Operator: First
Default Compression Quality: 75
Default Resampling Method: Bilinear
Max Record Count: null
Max Image Height: 4100
Max Image Width: 15000
Max Download Image Count: null
Max Mosaic Image Count: null
Allow Raster Function: true
Allow Compute TiePoints: false
Supports Statistics: false
Supports Advanced Queries: false
Use StandardizedQueries: true
Raster Type Infos:
Name: Raster Dataset
Description: Supports all ArcGIS Raster Datasets
Help:
Has Raster Attribute Table: false
Edit Fields Info: null
Ownership Based AccessControl For Rasters: null
Child Resources:
Info
Histograms
Key Properties
Legend
rasterFunctionInfos
Supported Operations:
Export Image
Identify
Measure
Compute Histograms
Compute Statistics Histograms
Get Samples
Compute Class Statistics
Query Boundary
Compute Pixel Location
Validate
Project