View In:
ArcGIS JavaScript
ArcGIS Online Map Viewer
ArcGIS Earth
ArcMap
View Footprint In:
ArcGIS Online Map Viewer
Service Description: This raster represents areas difference between Baseline Criteria - Equal and Baseline Criteria - IPSOS lean; the higher the value, the greater the difference. IPSOS Segments was considered a greater weight (.6) then Key Districts (.4) in creating this raster.Key District data was defined by CBF office staff in the PA, MD, VA, and Federal office using district boundaries as geographies. IPSOS Segment data was created by correlating IPSOS population segments to ESRI Tapestry Population Segments and pulling segments of interest at the census tract level.This raster will be used to compare the differences between different weight options to determine the best Baseline Criteria combination to use for the final product.Published as part of the Grassroots Organizer spatial analysis project.
Name: Voices_Campaign/WO_B_3_diff
Description: This raster represents areas difference between Baseline Criteria - Equal and Baseline Criteria - IPSOS lean; the higher the value, the greater the difference. IPSOS Segments was considered a greater weight (.6) then Key Districts (.4) in creating this raster.Key District data was defined by CBF office staff in the PA, MD, VA, and Federal office using district boundaries as geographies. IPSOS Segment data was created by correlating IPSOS population segments to ESRI Tapestry Population Segments and pulling segments of interest at the census tract level.This raster will be used to compare the differences between different weight options to determine the best Baseline Criteria combination to use for the final product.Published as part of the Grassroots Organizer spatial analysis project.
Single Fused Map Cache: false
Extent:
XMin: -276778.6673999997
YMin: 4045386.8006999996
XMax: 764131.3326000003
YMax: 4985486.8007
Spatial Reference: 26918
(26918)
Initial Extent:
XMin: -276778.6673999997
YMin: 4045386.8006999996
XMax: 764131.3326000003
YMax: 4985486.8007
Spatial Reference: 26918
(26918)
Full Extent:
XMin: -276778.6673999997
YMin: 4045386.8006999996
XMax: 764131.3326000003
YMax: 4985486.8007
Spatial Reference: 26918
(26918)
Pixel Size X: 10.0
Pixel Size Y: 10.0
Band Count: 1
Pixel Type: F32
RasterFunction Infos: {"rasterFunctionInfos": [{
"name": "None",
"description": "",
"help": ""
}]}
Mensuration Capabilities: Basic
Has Histograms: true
Has Colormap: false
Has Multi Dimensions : false
Rendering Rule:
Min Scale: 0
Max Scale: 0
Copyright Text: Created by M. Finch (CBF | 2020).
Service Data Type: esriImageServiceDataTypeGeneric
Min Values: -0.09999999403953552
Max Values: 0.10000002384185791
Mean Values: 0.021600831916457775
Standard Deviation Values: 0.046667094654216416
Object ID Field:
Fields:
None
Default Mosaic Method: Center
Allowed Mosaic Methods:
SortField:
SortValue: null
Mosaic Operator: First
Default Compression Quality: 75
Default Resampling Method: Bilinear
Max Record Count: null
Max Image Height: 4100
Max Image Width: 15000
Max Download Image Count: null
Max Mosaic Image Count: null
Allow Raster Function: true
Allow Compute TiePoints: false
Supports Statistics: false
Supports Advanced Queries: false
Use StandardizedQueries: true
Raster Type Infos:
Name: Raster Dataset
Description: Supports all ArcGIS Raster Datasets
Help:
Has Raster Attribute Table: false
Edit Fields Info: null
Ownership Based AccessControl For Rasters: null
Child Resources:
Info
Histograms
Key Properties
Legend
rasterFunctionInfos
Supported Operations:
Export Image
Identify
Measure
Compute Histograms
Compute Statistics Histograms
Get Samples
Compute Class Statistics
Query Boundary
Compute Pixel Location
Validate
Project