View In:
ArcGIS JavaScript
ArcGIS Online Map Viewer
ArcGIS Earth
ArcMap
View Footprint In:
ArcGIS Online Map Viewer
Service Description: This raster represents the difference between Geography Criteria w/ Advocate Contact - Contact fous and Geography Criteria w/ Advocate Contact - Equal focus; the higher the value, the greater the difference. Advocate contact location was given a greater weight (.8) then "Gap in Presence" (.2) when creating this raster.Advocate contact location data was created by taking the location of all advocate contacts from the most recent 18 month report and normalizing it to the census tract level using 2018 population information. "Gap in Presence" data is defined by taking CBF locations (offices, education sites, restoration project sites) and creating buffers at different intervals; the farther away a location is from a CBF location idenitifies it as a "gap" in CBF presence within the watershed.This raster will be used to compare with other weight combinations to determine the best weight combination to use for the final spatial analysis product.Published as part of the Grassroots Organizer spatial analysis project.
Name: Voices_Campaign/WO_G_4a_diff
Description: This raster represents the difference between Geography Criteria w/ Advocate Contact - Contact fous and Geography Criteria w/ Advocate Contact - Equal focus; the higher the value, the greater the difference. Advocate contact location was given a greater weight (.8) then "Gap in Presence" (.2) when creating this raster.Advocate contact location data was created by taking the location of all advocate contacts from the most recent 18 month report and normalizing it to the census tract level using 2018 population information. "Gap in Presence" data is defined by taking CBF locations (offices, education sites, restoration project sites) and creating buffers at different intervals; the farther away a location is from a CBF location idenitifies it as a "gap" in CBF presence within the watershed.This raster will be used to compare with other weight combinations to determine the best weight combination to use for the final spatial analysis product.Published as part of the Grassroots Organizer spatial analysis project.
Single Fused Map Cache: false
Extent:
XMin: -276778.6673999997
YMin: 4045386.8006999996
XMax: 764131.3326000003
YMax: 4985486.8007
Spatial Reference: 26918
(26918)
Initial Extent:
XMin: -276778.6673999997
YMin: 4045386.8006999996
XMax: 764131.3326000003
YMax: 4985486.8007
Spatial Reference: 26918
(26918)
Full Extent:
XMin: -276778.6673999997
YMin: 4045386.8006999996
XMax: 764131.3326000003
YMax: 4985486.8007
Spatial Reference: 26918
(26918)
Pixel Size X: 10.0
Pixel Size Y: 10.0
Band Count: 1
Pixel Type: F32
RasterFunction Infos: {"rasterFunctionInfos": [{
"name": "None",
"description": "",
"help": ""
}]}
Mensuration Capabilities: Basic
Has Histograms: true
Has Colormap: false
Has Multi Dimensions : false
Rendering Rule:
Min Scale: 0
Max Scale: 0
Copyright Text: Created by M. Finch (CBF | 2020).
Service Data Type: esriImageServiceDataTypeGeneric
Min Values: -0.30000001192092896
Max Values: 0.17297297716140747
Mean Values: -0.148204586126808
Standard Deviation Values: 0.09850165867105391
Object ID Field:
Fields:
None
Default Mosaic Method: Center
Allowed Mosaic Methods:
SortField:
SortValue: null
Mosaic Operator: First
Default Compression Quality: 75
Default Resampling Method: Bilinear
Max Record Count: null
Max Image Height: 4100
Max Image Width: 15000
Max Download Image Count: null
Max Mosaic Image Count: null
Allow Raster Function: true
Allow Compute TiePoints: false
Supports Statistics: false
Supports Advanced Queries: false
Use StandardizedQueries: true
Raster Type Infos:
Name: Raster Dataset
Description: Supports all ArcGIS Raster Datasets
Help:
Has Raster Attribute Table: false
Edit Fields Info: null
Ownership Based AccessControl For Rasters: null
Child Resources:
Info
Histograms
Key Properties
Legend
rasterFunctionInfos
Supported Operations:
Export Image
Identify
Measure
Compute Histograms
Compute Statistics Histograms
Get Samples
Compute Class Statistics
Query Boundary
Compute Pixel Location
Validate
Project