View In:
ArcGIS JavaScript
ArcGIS Online Map Viewer
ArcGIS Earth
Service Description: An intermediate raster in the CIC's enhanced flow path workflow, flow accumulation represents the cumulative sum of all cells flowing into each downslope cell in the output raster. The flow accumulation layer allows the user to set custom contributing area thresholds; thus, it can provide greater detail or a denser flow network (capturing ephemeral streams or flow paths) than the enhanced flow path dataset, which uses a contributing area threshold of 60 acres. The original flow accumulation raster was reclassified to show all cells with flow accumulation greater then 500.
Name: PA_Office/cic_fac_huc0205030509
Description: An intermediate raster in the CIC's enhanced flow path workflow, flow accumulation represents the cumulative sum of all cells flowing into each downslope cell in the output raster. The flow accumulation layer allows the user to set custom contributing area thresholds; thus, it can provide greater detail or a denser flow network (capturing ephemeral streams or flow paths) than the enhanced flow path dataset, which uses a contributing area threshold of 60 acres. The original flow accumulation raster was reclassified to show all cells with flow accumulation greater then 500.
Single Fused Map Cache: false
Extent:
XMin: 1604945.0000000005
YMin: 2071254.9999999981
XMax: 1636132.0000000005
YMax: 2105968.999999998
Spatial Reference: 0
(0)
LatestVCSWkid(0)
Initial Extent:
XMin: 1604945.0000000005
YMin: 2071254.9999999981
XMax: 1636132.0000000005
YMax: 2105968.999999998
Spatial Reference: 0
(0)
LatestVCSWkid(0)
Full Extent:
XMin: 1604945.0000000005
YMin: 2071254.9999999981
XMax: 1636132.0000000005
YMax: 2105968.999999998
Spatial Reference: 0
(0)
LatestVCSWkid(0)
Pixel Size X: 1.0
Pixel Size Y: 1.0
Band Count: 1
Pixel Type: S32
RasterFunction Infos: {"rasterFunctionInfos": [{
"name": "None",
"description": "",
"help": ""
}]}
Mensuration Capabilities: Basic
Inspection Capabilities:
Has Histograms: true
Has Colormap: false
Has Multi Dimensions : false
Rendering Rule:
Min Scale: 0
Max Scale: 0
Copyright Text: Chesapeake Conservancy, Conservation Innovation Center, Chesapeake Bay Program; downloaded, reclassifed, and published by M. Finch (CBF, 2021).
Service Data Type: esriImageServiceDataTypeGeneric
Min Values: 1
Max Values: 1
Mean Values: 1
Standard Deviation Values: 0
Object ID Field:
Fields:
None
Default Mosaic Method: Center
Allowed Mosaic Methods:
SortField:
SortValue: null
Mosaic Operator: First
Default Compression Quality: 75
Default Resampling Method: Bilinear
Max Record Count: null
Max Image Height: 4100
Max Image Width: 15000
Max Download Image Count: null
Max Mosaic Image Count: null
Allow Raster Function: true
Allow Copy: true
Allow Analysis: true
Allow Compute TiePoints: false
Supports Statistics: false
Supports Advanced Queries: false
Use StandardizedQueries: true
Raster Type Infos:
Name: Raster Dataset
Description: Supports all ArcGIS Raster Datasets
Help:
Has Raster Attribute Table: true
Edit Fields Info: null
Ownership Based AccessControl For Rasters: null
Child Resources:
Info
Raster Attribute Table
Histograms
Statistics
Key Properties
Legend
Raster Function Infos
Supported Operations:
Export Image
Identify
Measure
Compute Histograms
Compute Statistics Histograms
Get Samples
Compute Class Statistics
Query Boundary
Compute Pixel Location
Compute Angles
Validate
Project