View In:
ArcGIS JavaScript
ArcGIS Online Map Viewer
ArcGIS Earth
Service Description: Imagery from 2019 of project area; downloaded from PA Imagery Navigator and product of USDA NAIP. Will be used to add more detailed imagery to Collector map for NE SARE project in PA.
Name: PA_Office/CSC_m_4007638_se_18_060_20191019_20191204
Description: Imagery from 2019 of project area; downloaded from PA Imagery Navigator and product of USDA NAIP. Will be used to add more detailed imagery to Collector map for NE SARE project in PA.
Single Fused Map Cache: false
Extent:
XMin: 388321.8
YMin: 4469829.6
XMax: 394284.0
YMax: 4477498.8
Spatial Reference: 26918
(26918)
LatestVCSWkid(0)
Initial Extent:
XMin: 388321.8
YMin: 4469829.6
XMax: 394284.0
YMax: 4477498.8
Spatial Reference: 26918
(26918)
LatestVCSWkid(0)
Full Extent:
XMin: 388321.8
YMin: 4469829.6
XMax: 394284.0
YMax: 4477498.8
Spatial Reference: 26918
(26918)
LatestVCSWkid(0)
Pixel Size X: 0.6000000000000012
Pixel Size Y: 0.6000000000000145
Band Count: 4
Pixel Type: U8
RasterFunction Infos: {"rasterFunctionInfos": [{
"name": "None",
"description": "",
"help": ""
}]}
Mensuration Capabilities: Basic
Inspection Capabilities:
Has Histograms: true
Has Colormap: false
Has Multi Dimensions : false
Rendering Rule:
Min Scale: 0
Max Scale: 0
Copyright Text: Original data product of USDA NAIP accessed July 2021; published by M. Finch (CBF, 2021).
Service Data Type: esriImageServiceDataTypeGeneric
Min Values: 22, 31, 32, 1
Max Values: 255, 255, 249, 255
Mean Values: 138.12187823026, 139.54579897006, 115.42903209953, 130.25876676634
Standard Deviation Values: 45.159565305219, 37.052855397732, 36.991937861883, 44.248876946697
Object ID Field:
Fields:
None
Default Mosaic Method: Center
Allowed Mosaic Methods:
SortField:
SortValue: null
Mosaic Operator: First
Default Compression Quality: 75
Default Resampling Method: Bilinear
Max Record Count: null
Max Image Height: 4100
Max Image Width: 15000
Max Download Image Count: null
Max Mosaic Image Count: null
Allow Raster Function: true
Allow Copy: true
Allow Analysis: true
Allow Compute TiePoints: false
Supports Statistics: false
Supports Advanced Queries: false
Use StandardizedQueries: true
Raster Type Infos:
Name: Raster Dataset
Description: Supports all ArcGIS Raster Datasets
Help:
Has Raster Attribute Table: false
Edit Fields Info: null
Ownership Based AccessControl For Rasters: null
Child Resources:
Info
Histograms
Statistics
Key Properties
Legend
Raster Function Infos
Supported Operations:
Export Image
Identify
Measure
Compute Histograms
Compute Statistics Histograms
Get Samples
Compute Class Statistics
Query Boundary
Compute Pixel Location
Compute Angles
Validate
Project