View In:
ArcGIS JavaScript
ArcGIS Online Map Viewer
ArcGIS Earth
Service Description: Model output for the Virginia Tiered Buffer prioritization raster in which all variables were given equal weights (soil erodibility, slope, distance from streams, and high flow from agriculture).
Name: VA_TieredBuffers/ModelRun1_EqualInputs_ROA
Description: Model output for the Virginia Tiered Buffer prioritization raster in which all variables were given equal weights (soil erodibility, slope, distance from streams, and high flow from agriculture).
Single Fused Map Cache: false
Extent:
XMin: -16632.101020985836
YMin: 170132.90065079724
XMax: 31374.898979014164
YMax: 231520.90065079724
Spatial Reference: 6591
(6591)
LatestVCSWkid(0)
Initial Extent:
XMin: -16632.101020985836
YMin: 170132.90065079724
XMax: 31374.898979014164
YMax: 231520.90065079724
Spatial Reference: 6591
(6591)
LatestVCSWkid(0)
Full Extent:
XMin: -16632.101020985836
YMin: 170132.90065079724
XMax: 31374.898979014164
YMax: 231520.90065079724
Spatial Reference: 6591
(6591)
LatestVCSWkid(0)
Pixel Size X: 1.0
Pixel Size Y: 1.0
Band Count: 1
Pixel Type: F32
RasterFunction Infos: {"rasterFunctionInfos": [{
"name": "None",
"description": "",
"help": ""
}]}
Mensuration Capabilities: Basic
Inspection Capabilities:
Has Histograms: true
Has Colormap: false
Has Multi Dimensions : false
Rendering Rule:
Min Scale: 0
Max Scale: 0
Copyright Text: Chesapeake Bay Foundation (2021)
Service Data Type: esriImageServiceDataTypeGeneric
Min Values: 0.19511394202709
Max Values: 9.8083333969116
Mean Values: 4.2327770744419
Standard Deviation Values: 1.4213415689113
Object ID Field:
Fields:
None
Default Mosaic Method: Center
Allowed Mosaic Methods:
SortField:
SortValue: null
Mosaic Operator: First
Default Compression Quality: 75
Default Resampling Method: Bilinear
Max Record Count: null
Max Image Height: 4100
Max Image Width: 15000
Max Download Image Count: null
Max Mosaic Image Count: null
Allow Raster Function: true
Allow Copy: true
Allow Analysis: true
Allow Compute TiePoints: false
Supports Statistics: false
Supports Advanced Queries: false
Use StandardizedQueries: true
Raster Type Infos:
Name: Raster Dataset
Description: Supports all ArcGIS Raster Datasets
Help:
Has Raster Attribute Table: false
Edit Fields Info: null
Ownership Based AccessControl For Rasters: null
Child Resources:
Info
Histograms
Statistics
Key Properties
Legend
Raster Function Infos
Supported Operations:
Export Image
Identify
Measure
Compute Histograms
Compute Statistics Histograms
Get Samples
Compute Class Statistics
Query Boundary
Compute Pixel Location
Compute Angles
Validate
Project